Package: dressCheck Version: 0.47.0 Command: /home/biocbuild/bbs-3.22-bioc/R/bin/R CMD build --keep-empty-dirs --no-resave-data dressCheck StartedAt: 2025-10-09 11:14:51 -0400 (Thu, 09 Oct 2025) EndedAt: 2025-10-09 11:15:16 -0400 (Thu, 09 Oct 2025) EllapsedTime: 24.7 seconds RetCode: 0 Status: OK PackageFile: dressCheck_0.47.0.tar.gz PackageFileSize: 65.75 MiB