Package: derfinderData Version: 2.28.0 Maintainer: Leonardo Collado-Torres MaintainerEmail: lcolladotor at gmail.com git_url: https://git.bioconductor.org/packages/derfinderData git_branch: RELEASE_3_22 git_last_commit: 3940ba9 git_last_commit_date: 2025-10-29 09:55:49 -0500 (Wed, 29 Oct 2025)