Package: depmap Version: 1.24.0 Maintainer: Laurent Gatto MaintainerEmail: laurent.gatto at uclouvain.be git_url: https://git.bioconductor.org/packages/depmap git_branch: RELEASE_3_22 git_last_commit: fbdcdfa git_last_commit_date: 2025-10-29 10:01:43 -0500 (Wed, 29 Oct 2025)