Package: curatedTCGAData Version: 1.32.0 Maintainer: Marcel Ramos MaintainerEmail: marcel.ramos at sph.cuny.edu git_url: https://git.bioconductor.org/packages/curatedTCGAData git_branch: RELEASE_3_22 git_last_commit: 87ef388 git_last_commit_date: 2025-10-29 09:59:32 -0400 (Wed, 29 Oct 2025)