Package: curatedOvarianData Version: 1.48.0 Command: /home/biocbuild/bbs-3.22-bioc/R/bin/R CMD check --install=check:curatedOvarianData.install-out.txt --library=/home/biocbuild/bbs-3.22-bioc/R/site-library --timings curatedOvarianData_1.48.0.tar.gz StartedAt: 2025-11-18 12:39:48 -0500 (Tue, 18 Nov 2025) EndedAt: 2025-11-18 12:45:17 -0500 (Tue, 18 Nov 2025) EllapsedTime: 328.1 seconds RetCode: 0 Status: OK CheckDir: curatedOvarianData.Rcheck Warnings: 0