Package: curatedCRCData Version: 2.42.0 Command: /home/biocbuild/bbs-3.22-bioc/R/bin/R CMD check --install=check:curatedCRCData.install-out.txt --library=/home/biocbuild/bbs-3.22-bioc/R/site-library --timings curatedCRCData_2.42.0.tar.gz StartedAt: 2025-11-20 12:20:30 -0500 (Thu, 20 Nov 2025) EndedAt: 2025-11-20 12:22:50 -0500 (Thu, 20 Nov 2025) EllapsedTime: 140.2 seconds RetCode: 1 Status: ERROR CheckDir: curatedCRCData.Rcheck Warnings: NA