Package: crisprScoreData Version: 1.14.0 Command: /home/biocbuild/bbs-3.22-bioc/R/bin/R CMD check --install=check:crisprScoreData.install-out.txt --library=/home/biocbuild/bbs-3.22-bioc/R/site-library --timings crisprScoreData_1.14.0.tar.gz StartedAt: 2025-11-18 12:38:42 -0500 (Tue, 18 Nov 2025) EndedAt: 2025-11-18 12:41:04 -0500 (Tue, 18 Nov 2025) EllapsedTime: 142.4 seconds RetCode: 0 Status: OK CheckDir: crisprScoreData.Rcheck Warnings: 0