Package: celarefData Version: 1.28.0 Maintainer: Sarah Williams MaintainerEmail: sarah.williams1 at monash.edu git_url: https://git.bioconductor.org/packages/celarefData git_branch: RELEASE_3_22 git_last_commit: 718ab5d git_last_commit_date: 2025-10-29 10:00:33 -0400 (Wed, 29 Oct 2025)