Package: ccdata Version: 1.36.0 Maintainer: Alex Pickering MaintainerEmail: alexvpickering at gmail.com git_url: https://git.bioconductor.org/packages/ccdata git_branch: RELEASE_3_22 git_last_commit: f1f8d1c git_last_commit_date: 2025-10-29 09:58:47 -0500 (Wed, 29 Oct 2025)