Package: brgedata Version: 1.31.0 Command: /home/biocbuild/bbs-3.22-bioc/R/bin/R CMD INSTALL brgedata StartedAt: 2025-10-16 10:58:42 -0400 (Thu, 16 Oct 2025) EndedAt: 2025-10-16 10:59:49 -0400 (Thu, 16 Oct 2025) EllapsedTime: 67.2 seconds RetCode: 0 Status: OK