Package: breastCancerUPP Version: 1.47.0 Command: /home/biocbuild/bbs-3.22-bioc/R/bin/R CMD build --keep-empty-dirs --no-resave-data breastCancerUPP StartedAt: 2025-10-23 11:07:43 -0400 (Thu, 23 Oct 2025) EndedAt: 2025-10-23 11:07:47 -0400 (Thu, 23 Oct 2025) EllapsedTime: 4.1 seconds RetCode: 0 Status: OK PackageFile: breastCancerUPP_1.47.0.tar.gz PackageFileSize: 29.59 MiB