Package: breastCancerUNT Version: 1.48.0 Command: /home/biocbuild/bbs-3.22-bioc/R/bin/R CMD INSTALL breastCancerUNT StartedAt: 2025-10-30 10:55:51 -0400 (Thu, 30 Oct 2025) EndedAt: 2025-10-30 10:55:55 -0400 (Thu, 30 Oct 2025) EllapsedTime: 3.2 seconds RetCode: 0 Status: OK