Package: breastCancerUNT Version: 1.48.0 Command: /home/biocbuild/bbs-3.22-bioc/R/bin/R CMD build --keep-empty-dirs --no-resave-data breastCancerUNT StartedAt: 2025-10-30 11:12:59 -0400 (Thu, 30 Oct 2025) EndedAt: 2025-10-30 11:13:05 -0400 (Thu, 30 Oct 2025) EllapsedTime: 5.7 seconds RetCode: 0 Status: OK PackageFile: breastCancerUNT_1.48.0.tar.gz PackageFileSize: 48.32 MiB