Package: bodymapRat Version: 1.25.0 Command: /home/biocbuild/bbs-3.22-bioc/R/bin/R CMD INSTALL bodymapRat StartedAt: 2025-10-02 11:01:25 -0400 (Thu, 02 Oct 2025) EndedAt: 2025-10-02 11:01:51 -0400 (Thu, 02 Oct 2025) EllapsedTime: 26.7 seconds RetCode: 0 Status: OK