Package: bladderbatch Version: 1.47.0 Command: /home/biocbuild/bbs-3.22-bioc/R/bin/R CMD check --install=check:bladderbatch.install-out.txt --library=/home/biocbuild/bbs-3.22-bioc/R/site-library --timings bladderbatch_1.47.0.tar.gz StartedAt: 2025-10-14 12:02:31 -0400 (Tue, 14 Oct 2025) EndedAt: 2025-10-14 12:02:57 -0400 (Tue, 14 Oct 2025) EllapsedTime: 25.2 seconds RetCode: 0 Status: WARNINGS CheckDir: bladderbatch.Rcheck Warnings: 1