Package: beta7 Version: 1.48.0 Maintainer: Jean Yang MaintainerEmail: jean at biostat.ucsf.edu git_url: https://git.bioconductor.org/packages/beta7 git_branch: RELEASE_3_22 git_last_commit: 9ae99c0 git_last_commit_date: 2025-10-29 09:23:18 -0400 (Wed, 29 Oct 2025)