Package: bcellViper Version: 1.46.0 Maintainer: Mariano Javier Alvarez MaintainerEmail: malvarez at c2b2.columbia.edu git_url: https://git.bioconductor.org/packages/bcellViper git_branch: RELEASE_3_22 git_last_commit: 3faf694 git_last_commit_date: 2025-10-29 09:54:52 -0500 (Wed, 29 Oct 2025)