Package: airway Version: 1.29.0 Command: /home/biocbuild/bbs-3.22-bioc/R/bin/R CMD build --keep-empty-dirs --no-resave-data airway StartedAt: 2025-10-16 11:06:28 -0400 (Thu, 16 Oct 2025) EndedAt: 2025-10-16 11:07:02 -0400 (Thu, 16 Oct 2025) EllapsedTime: 33.7 seconds RetCode: 0 Status: OK PackageFile: airway_1.29.0.tar.gz PackageFileSize: 23.61 MiB