Package: affycompData Version: 1.47.0 Command: /home/biocbuild/bbs-3.22-bioc/R/bin/R CMD INSTALL affycompData StartedAt: 2025-10-02 10:56:15 -0400 (Thu, 02 Oct 2025) EndedAt: 2025-10-02 10:56:23 -0400 (Thu, 02 Oct 2025) EllapsedTime: 7.9 seconds RetCode: 0 Status: OK