Package: adductData Version: 1.26.0 Maintainer: Josie Hayes MaintainerEmail: jlhayes1982 at gmail.com git_url: https://git.bioconductor.org/packages/adductData git_branch: RELEASE_3_22 git_last_commit: 371b0e2 git_last_commit_date: 2025-10-29 10:01:12 -0500 (Wed, 29 Oct 2025)