Package: XhybCasneuf Version: 1.48.0 Command: /home/biocbuild/bbs-3.22-bioc/R/bin/R CMD INSTALL XhybCasneuf StartedAt: 2025-11-13 10:57:17 -0500 (Thu, 13 Nov 2025) EndedAt: 2025-11-13 10:57:30 -0500 (Thu, 13 Nov 2025) EllapsedTime: 12.3 seconds RetCode: 0 Status: OK