Package: XhybCasneuf Version: 1.48.0 Command: /home/biocbuild/bbs-3.22-bioc/R/bin/R CMD build --keep-empty-dirs --no-resave-data XhybCasneuf StartedAt: 2025-11-13 11:49:40 -0500 (Thu, 13 Nov 2025) EndedAt: 2025-11-13 11:49:58 -0500 (Thu, 13 Nov 2025) EllapsedTime: 18.9 seconds RetCode: 0 Status: OK PackageFile: XhybCasneuf_1.48.0.tar.gz PackageFileSize: 3.37 MiB