Package: WeberDivechaLCdata Version: 1.11.0 Command: /home/biocbuild/bbs-3.22-bioc/R/bin/R CMD INSTALL WeberDivechaLCdata StartedAt: 2025-09-25 10:58:59 -0400 (Thu, 25 Sep 2025) EndedAt: 2025-09-25 10:59:27 -0400 (Thu, 25 Sep 2025) EllapsedTime: 28.6 seconds RetCode: 0 Status: OK