Package: WGSmapp Version: 1.21.0 Command: /home/biocbuild/bbs-3.22-bioc/R/bin/R CMD build --keep-empty-dirs --no-resave-data WGSmapp StartedAt: 2025-09-25 11:46:55 -0400 (Thu, 25 Sep 2025) EndedAt: 2025-09-25 11:47:13 -0400 (Thu, 25 Sep 2025) EllapsedTime: 18.6 seconds RetCode: 0 Status: OK PackageFile: WGSmapp_1.21.0.tar.gz PackageFileSize: 195.7 MiB