Package: VariantToolsData Version: 1.33.0 Command: /home/biocbuild/bbs-3.22-bioc/R/bin/R CMD check --install=check:VariantToolsData.install-out.txt --library=/home/biocbuild/bbs-3.22-bioc/R/site-library --timings VariantToolsData_1.33.0.tar.gz StartedAt: 2025-10-02 13:15:09 -0400 (Thu, 02 Oct 2025) EndedAt: 2025-10-02 13:19:15 -0400 (Thu, 02 Oct 2025) EllapsedTime: 246.6 seconds RetCode: 0 Status: OK CheckDir: VariantToolsData.Rcheck Warnings: 0