Package: TumourMethData Version: 1.8.0 Maintainer: Richard Heery MaintainerEmail: richardheery at gmail.com git_url: https://git.bioconductor.org/packages/TumourMethData git_branch: RELEASE_3_22 git_last_commit: 9cade98 git_last_commit_date: 2025-10-29 10:05:57 -0500 (Wed, 29 Oct 2025)