Package: TransOmicsData Version: 1.6.0 Command: /home/biocbuild/bbs-3.22-bioc/R/bin/R CMD check --install=check:TransOmicsData.install-out.txt --library=/home/biocbuild/bbs-3.22-bioc/R/site-library --timings TransOmicsData_1.6.0.tar.gz StartedAt: 2025-11-06 13:13:48 -0500 (Thu, 06 Nov 2025) EndedAt: 2025-11-06 13:14:32 -0500 (Thu, 06 Nov 2025) EllapsedTime: 43.9 seconds RetCode: 0 Status: OK CheckDir: TransOmicsData.Rcheck Warnings: 0