Package: TabulaMurisSenisData Version: 1.15.0 Command: /home/biocbuild/bbs-3.22-bioc/R/bin/R CMD INSTALL TabulaMurisSenisData StartedAt: 2025-09-30 11:01:14 -0400 (Tue, 30 Sep 2025) EndedAt: 2025-09-30 11:01:47 -0400 (Tue, 30 Sep 2025) EllapsedTime: 32.6 seconds RetCode: 0 Status: OK