Package: TabulaMurisSenisData Version: 1.15.0 Command: /home/biocbuild/bbs-3.22-bioc/R/bin/R CMD build --keep-empty-dirs --no-resave-data TabulaMurisSenisData StartedAt: 2025-09-30 11:43:47 -0400 (Tue, 30 Sep 2025) EndedAt: 2025-09-30 11:45:32 -0400 (Tue, 30 Sep 2025) EllapsedTime: 105.2 seconds RetCode: 0 Status: OK PackageFile: TabulaMurisSenisData_1.15.0.tar.gz PackageFileSize: 2.502 MiB