Package: TabulaMurisSenisData Version: 1.16.0 Maintainer: Charlotte Soneson MaintainerEmail: charlottesoneson at gmail.com git_url: https://git.bioconductor.org/packages/TabulaMurisSenisData git_branch: RELEASE_3_22 git_last_commit: 5a0bd7a git_last_commit_date: 2025-10-29 10:04:14 -0500 (Wed, 29 Oct 2025)