Package: TMExplorer Version: 1.20.0 Command: /home/biocbuild/bbs-3.22-bioc/R/bin/R CMD check --install=check:TMExplorer.install-out.txt --library=/home/biocbuild/bbs-3.22-bioc/R/site-library --timings TMExplorer_1.20.0.tar.gz StartedAt: 2025-11-20 13:29:19 -0500 (Thu, 20 Nov 2025) EndedAt: 2025-11-20 13:58:36 -0500 (Thu, 20 Nov 2025) EllapsedTime: 1757.2 seconds RetCode: 0 Status: OK CheckDir: TMExplorer.Rcheck Warnings: 0