Package: TENxXeniumData Version: 1.5.0 Command: /home/biocbuild/bbs-3.22-bioc/R/bin/R CMD check --install=check:TENxXeniumData.install-out.txt --library=/home/biocbuild/bbs-3.22-bioc/R/site-library --timings TENxXeniumData_1.5.0.tar.gz StartedAt: 2025-10-28 13:13:09 -0400 (Tue, 28 Oct 2025) EndedAt: 2025-10-28 13:21:06 -0400 (Tue, 28 Oct 2025) EllapsedTime: 476.8 seconds RetCode: 0 Status: OK CheckDir: TENxXeniumData.Rcheck Warnings: 0