Package: TENxPBMCData Version: 1.28.0 Maintainer: Stephanie Hicks MaintainerEmail: shicks19 at jhu.edu git_url: https://git.bioconductor.org/packages/TENxPBMCData git_branch: RELEASE_3_22 git_last_commit: 11a0abc git_last_commit_date: 2025-10-29 10:00:38 -0500 (Wed, 29 Oct 2025)