Package: TENxBUSData Version: 1.24.0 Maintainer: Lambda Moses MaintainerEmail: dlu2 at caltech.edu git_url: https://git.bioconductor.org/packages/TENxBUSData git_branch: RELEASE_3_22 git_last_commit: f0a01ef git_last_commit_date: 2025-10-29 10:01:58 -0500 (Wed, 29 Oct 2025)