Package: TENET.ExperimentHub Version: 1.1.0 Command: /home/biocbuild/bbs-3.22-bioc/R/bin/R CMD INSTALL TENET.ExperimentHub StartedAt: 2025-10-14 11:00:30 -0400 (Tue, 14 Oct 2025) EndedAt: 2025-10-14 11:00:53 -0400 (Tue, 14 Oct 2025) EllapsedTime: 23.0 seconds RetCode: 0 Status: OK