Package: TENET.ExperimentHub Version: 1.1.0 Command: /home/biocbuild/bbs-3.22-bioc/R/bin/R CMD build --keep-empty-dirs --no-resave-data TENET.ExperimentHub StartedAt: 2025-10-14 11:45:31 -0400 (Tue, 14 Oct 2025) EndedAt: 2025-10-14 11:46:26 -0400 (Tue, 14 Oct 2025) EllapsedTime: 54.6 seconds RetCode: 0 Status: OK PackageFile: TENET.ExperimentHub_1.1.0.tar.gz PackageFileSize: 244.6 KiB