Package: TCGAbiolinksGUI.data Version: 1.30.0 Command: /home/biocbuild/bbs-3.22-bioc/R/bin/R CMD check --install=check:TCGAbiolinksGUI.data.install-out.txt --library=/home/biocbuild/bbs-3.22-bioc/R/site-library --timings TCGAbiolinksGUI.data_1.30.0.tar.gz StartedAt: 2025-11-25 13:12:03 -0500 (Tue, 25 Nov 2025) EndedAt: 2025-11-25 13:15:55 -0500 (Tue, 25 Nov 2025) EllapsedTime: 232.0 seconds RetCode: 0 Status: WARNINGS CheckDir: TCGAbiolinksGUI.data.Rcheck Warnings: 1