Package: TCGAWorkflowData Version: 1.33.0 Command: /home/biocbuild/bbs-3.22-bioc/R/bin/R CMD check --install=check:TCGAWorkflowData.install-out.txt --library=/home/biocbuild/bbs-3.22-bioc/R/site-library --timings TCGAWorkflowData_1.33.0.tar.gz StartedAt: 2025-09-30 13:10:52 -0400 (Tue, 30 Sep 2025) EndedAt: 2025-09-30 13:19:16 -0400 (Tue, 30 Sep 2025) EllapsedTime: 504.3 seconds RetCode: 0 Status: OK CheckDir: TCGAWorkflowData.Rcheck Warnings: 0