Package: TBX20BamSubset Version: 1.45.0 Command: /home/biocbuild/bbs-3.22-bioc/R/bin/R CMD INSTALL TBX20BamSubset StartedAt: 2025-10-21 11:02:01 -0400 (Tue, 21 Oct 2025) EndedAt: 2025-10-21 11:02:12 -0400 (Tue, 21 Oct 2025) EllapsedTime: 11.3 seconds RetCode: 0 Status: OK