Package: TBX20BamSubset Version: 1.45.0 Command: /home/biocbuild/bbs-3.22-bioc/R/bin/R CMD build --keep-empty-dirs --no-resave-data TBX20BamSubset StartedAt: 2025-10-21 11:45:42 -0400 (Tue, 21 Oct 2025) EndedAt: 2025-10-21 11:46:05 -0400 (Tue, 21 Oct 2025) EllapsedTime: 23.1 seconds RetCode: 0 Status: OK PackageFile: TBX20BamSubset_1.45.0.tar.gz PackageFileSize: 94.74 MiB