Package: SpikeInSubset Version: 1.49.0 Command: /home/biocbuild/bbs-3.22-bioc/R/bin/R CMD check --install=check:SpikeInSubset.install-out.txt --library=/home/biocbuild/bbs-3.22-bioc/R/site-library --timings SpikeInSubset_1.49.0.tar.gz StartedAt: 2025-10-28 13:06:10 -0400 (Tue, 28 Oct 2025) EndedAt: 2025-10-28 13:07:57 -0400 (Tue, 28 Oct 2025) EllapsedTime: 107.2 seconds RetCode: 0 Status: WARNINGS CheckDir: SpikeInSubset.Rcheck Warnings: 3