Package: SingleMoleculeFootprintingData Version: 1.18.0 Maintainer: Guido Barzaghi MaintainerEmail: guido.barzaghi at embl.de git_url: https://git.bioconductor.org/packages/SingleMoleculeFootprintingData git_branch: RELEASE_3_22 git_last_commit: 2069905 git_last_commit_date: 2025-10-29 10:04:01 -0500 (Wed, 29 Oct 2025)