Package: Single.mTEC.Transcriptomes Version: 1.37.1 Command: /home/biocbuild/bbs-3.22-bioc/R/bin/R CMD check --install=check:Single.mTEC.Transcriptomes.install-out.txt --library=/home/biocbuild/bbs-3.22-bioc/R/site-library --timings Single.mTEC.Transcriptomes_1.37.1.tar.gz StartedAt: 2025-10-02 13:03:37 -0400 (Thu, 02 Oct 2025) EndedAt: 2025-10-02 13:11:55 -0400 (Thu, 02 Oct 2025) EllapsedTime: 498.5 seconds RetCode: 0 Status: OK CheckDir: Single.mTEC.Transcriptomes.Rcheck Warnings: 0