Package: SNAGEEdata Version: 1.45.0 Command: /home/biocbuild/bbs-3.22-bioc/R/bin/R CMD build --keep-empty-dirs --no-resave-data SNAGEEdata StartedAt: 2025-09-30 11:42:48 -0400 (Tue, 30 Sep 2025) EndedAt: 2025-09-30 11:42:51 -0400 (Tue, 30 Sep 2025) EllapsedTime: 3.0 seconds RetCode: 0 Status: OK PackageFile: SNAGEEdata_1.45.0.tar.gz PackageFileSize: 29.22 MiB