Package: SNAData Version: 1.55.0 Command: /home/biocbuild/bbs-3.22-bioc/R/bin/R CMD INSTALL SNAData StartedAt: 2025-09-30 10:56:25 -0400 (Tue, 30 Sep 2025) EndedAt: 2025-09-30 10:56:29 -0400 (Tue, 30 Sep 2025) EllapsedTime: 4.0 seconds RetCode: 0 Status: OK