Package: SFEData Version: 1.12.0 Maintainer: Lambda Moses MaintainerEmail: dlu2 at caltech.edu git_url: https://git.bioconductor.org/packages/SFEData git_branch: RELEASE_3_22 git_last_commit: 6dcb2d3 git_last_commit_date: 2025-10-29 10:05:08 -0500 (Wed, 29 Oct 2025)