Package: SCLCBam Version: 1.42.0 Maintainer: Oscar Krijgsman MaintainerEmail: o.krijgsman at nki.nl git_url: https://git.bioconductor.org/packages/SCLCBam git_branch: RELEASE_3_22 git_last_commit: 9c8603a git_last_commit_date: 2025-10-29 09:56:27 -0500 (Wed, 29 Oct 2025)