Package: SBGNview.data Version: 1.24.0 Command: /home/biocbuild/bbs-3.22-bioc/R/bin/R CMD INSTALL SBGNview.data StartedAt: 2025-11-06 10:57:39 -0500 (Thu, 06 Nov 2025) EndedAt: 2025-11-06 10:57:56 -0500 (Thu, 06 Nov 2025) EllapsedTime: 17.3 seconds RetCode: 0 Status: OK