Package: RnaSeqSampleSizeData Version: 1.42.0 Command: /home/biocbuild/bbs-3.22-bioc/R/bin/R CMD check --install=check:RnaSeqSampleSizeData.install-out.txt --library=/home/biocbuild/bbs-3.22-bioc/R/site-library --timings RnaSeqSampleSizeData_1.42.0.tar.gz StartedAt: 2025-11-18 13:29:22 -0500 (Tue, 18 Nov 2025) EndedAt: 2025-11-18 13:30:19 -0500 (Tue, 18 Nov 2025) EllapsedTime: 56.7 seconds RetCode: 0 Status: OK CheckDir: RnaSeqSampleSizeData.Rcheck Warnings: 0