Package: RnBeads.rn5 Version: 1.42.0 Maintainer: RnBeadsAnnotationCreator MaintainerEmail: rnbeads at mpi-inf.mpg.de git_url: https://git.bioconductor.org/packages/RnBeads.rn5 git_branch: RELEASE_3_22 git_last_commit: 9ab3ab1 git_last_commit_date: 2025-10-29 09:56:37 -0500 (Wed, 29 Oct 2025)